Package: SPOTlight Version: 1.11.0 Command: /Library/Frameworks/R.framework/Resources/bin/R CMD build --keep-empty-dirs --no-resave-data SPOTlight StartedAt: 2025-02-04 18:27:57 -0500 (Tue, 04 Feb 2025) EndedAt: 2025-02-04 18:30:49 -0500 (Tue, 04 Feb 2025) EllapsedTime: 172.0 seconds RetCode: 0 Status: OK PackageFile: SPOTlight_1.11.0.tar.gz PackageFileSize: 4.553 MiB