Package: SPOTlight Version: 1.11.0 Command: /home/biocbuild/bbs-3.21-bioc/R/bin/R CMD build --keep-empty-dirs --no-resave-data SPOTlight StartedAt: 2025-02-04 19:24:50 -0500 (Tue, 04 Feb 2025) EndedAt: 2025-02-04 19:27:34 -0500 (Tue, 04 Feb 2025) EllapsedTime: 164.2 seconds RetCode: 0 Status: OK PackageFile: SPOTlight_1.11.0.tar.gz PackageFileSize: 3.77 MiB