Package: SPOTlight Version: 1.11.0 Command: /home/biocbuild/bbs-3.21-bioc/R/bin/R CMD check --install=check:SPOTlight.install-out.txt --library=/home/biocbuild/bbs-3.21-bioc/R/site-library --timings SPOTlight_1.11.0.tar.gz StartedAt: 2025-02-05 03:09:29 -0500 (Wed, 05 Feb 2025) EndedAt: 2025-02-05 03:16:48 -0500 (Wed, 05 Feb 2025) EllapsedTime: 439.6 seconds RetCode: 0 Status: OK CheckDir: SPOTlight.Rcheck Warnings: 0