Package: SPOTlight Version: 1.11.0 Command: /home/biocbuild/bbs-3.21-bioc/R/bin/R CMD INSTALL SPOTlight StartedAt: 2025-02-04 15:18:15 -0500 (Tue, 04 Feb 2025) EndedAt: 2025-02-04 15:18:42 -0500 (Tue, 04 Feb 2025) EllapsedTime: 26.9 seconds RetCode: 0 Status: OK