Package: SPOTlight Version: 1.11.0 Command: rm -rf SPOTlight.buildbin-libdir && mkdir SPOTlight.buildbin-libdir && E:\biocbuild\bbs-3.21-bioc\R\bin\R.exe CMD INSTALL --build --library=SPOTlight.buildbin-libdir SPOTlight_1.11.0.tar.gz StartedAt: 2025-02-05 09:00:31 -0500 (Wed, 05 Feb 2025) EndedAt: 2025-02-05 09:01:05 -0500 (Wed, 05 Feb 2025) EllapsedTime: 34.4 seconds RetCode: 0 Status: OK PackageFile: SPOTlight_1.11.0.zip PackageFileSize: 1.565 MiB