Package: SPOTlight Version: 1.11.0 Command: chmod a+r SPOTlight -R && E:\biocbuild\bbs-3.21-bioc\R\bin\R.exe CMD build --keep-empty-dirs --no-resave-data SPOTlight StartedAt: 2025-02-04 21:55:19 -0500 (Tue, 04 Feb 2025) EndedAt: 2025-02-04 21:59:19 -0500 (Tue, 04 Feb 2025) EllapsedTime: 239.8 seconds RetCode: 0 Status: OK PackageFile: SPOTlight_1.11.0.tar.gz PackageFileSize: 1.884 MiB