Package: SPsimSeq Version: 1.17.0 Command: /Library/Frameworks/R.framework/Resources/bin/R CMD build --keep-empty-dirs --no-resave-data SPsimSeq StartedAt: 2025-02-09 17:43:37 -0500 (Sun, 09 Feb 2025) EndedAt: 2025-02-09 17:44:52 -0500 (Sun, 09 Feb 2025) EllapsedTime: 74.9 seconds RetCode: 0 Status: OK PackageFile: SPsimSeq_1.17.0.tar.gz PackageFileSize: 774.1 KiB