Package: SPsimSeq Version: 1.17.0 Command: /Library/Frameworks/R.framework/Resources/bin/R CMD INSTALL SPsimSeq StartedAt: 2025-02-09 15:22:26 -0500 (Sun, 09 Feb 2025) EndedAt: 2025-02-09 15:22:40 -0500 (Sun, 09 Feb 2025) EllapsedTime: 14.3 seconds RetCode: 0 Status: OK