Package: SPsimSeq Version: 1.17.0 Command: /home/biocbuild/R/R/bin/R CMD INSTALL SPsimSeq StartedAt: 2025-01-29 20:22:29 -0000 (Wed, 29 Jan 2025) EndedAt: 2025-01-29 20:23:17 -0000 (Wed, 29 Jan 2025) EllapsedTime: 47.9 seconds RetCode: 0 Status: OK