Package: SPsimSeq Version: 1.17.0 Command: /Library/Frameworks/R.framework/Resources/bin/R CMD check --install=check:SPsimSeq.install-out.txt --library=/Library/Frameworks/R.framework/Resources/library --no-vignettes --timings SPsimSeq_1.17.0.tar.gz StartedAt: 2025-02-09 23:53:09 -0500 (Sun, 09 Feb 2025) EndedAt: 2025-02-10 00:00:20 -0500 (Mon, 10 Feb 2025) EllapsedTime: 430.9 seconds RetCode: 0 Status: OK CheckDir: SPsimSeq.Rcheck Warnings: 0