Package: SPsimSeq Version: 1.17.0 Command: /Library/Frameworks/R.framework/Resources/bin/R CMD INSTALL SPsimSeq StartedAt: 2025-02-09 15:36:39 -0500 (Sun, 09 Feb 2025) EndedAt: 2025-02-09 15:37:27 -0500 (Sun, 09 Feb 2025) EllapsedTime: 47.4 seconds RetCode: 0 Status: OK