Package: SRAdb Version: 1.69.2 Command: /Library/Frameworks/R.framework/Resources/bin/R CMD build --keep-empty-dirs --no-resave-data SRAdb StartedAt: 2025-02-09 17:44:13 -0500 (Sun, 09 Feb 2025) EndedAt: 2025-02-09 17:44:19 -0500 (Sun, 09 Feb 2025) EllapsedTime: 6.1 seconds RetCode: 0 Status: OK PackageFile: SRAdb_1.69.2.tar.gz PackageFileSize: 889.7 KiB