Package: SRAdb Version: 1.69.2 Command: /Library/Frameworks/R.framework/Resources/bin/R CMD check --install=check:SRAdb.install-out.txt --library=/Library/Frameworks/R.framework/Resources/library --no-vignettes --timings SRAdb_1.69.2.tar.gz StartedAt: 2025-02-09 21:35:53 -0500 (Sun, 09 Feb 2025) EndedAt: 2025-02-09 21:36:09 -0500 (Sun, 09 Feb 2025) EllapsedTime: 16.2 seconds RetCode: 0 Status: OK CheckDir: SRAdb.Rcheck Warnings: 0