Package: SRAdb Version: 1.69.2 Command: /home/biocbuild/R/R/bin/R CMD check --install=check:SRAdb.install-out.txt --library=/home/biocbuild/R/R/site-library --no-vignettes --timings SRAdb_1.69.2.tar.gz StartedAt: 2025-01-28 15:45:33 -0000 (Tue, 28 Jan 2025) EndedAt: 2025-01-28 15:46:43 -0000 (Tue, 28 Jan 2025) EllapsedTime: 70.0 seconds RetCode: 0 Status: OK CheckDir: SRAdb.Rcheck Warnings: 0