Package: SRAdb Version: 1.69.2 Command: /Library/Frameworks/R.framework/Resources/bin/R CMD build --keep-empty-dirs --no-resave-data SRAdb StartedAt: 2025-02-09 18:37:07 -0500 (Sun, 09 Feb 2025) EndedAt: 2025-02-09 18:37:21 -0500 (Sun, 09 Feb 2025) EllapsedTime: 14.9 seconds RetCode: 0 Status: OK PackageFile: SRAdb_1.69.2.tar.gz PackageFileSize: 889.2 KiB