Package: SRAdb Version: 1.69.2 Command: /home/biocbuild/bbs-3.21-bioc/R/bin/R CMD check --install=check:SRAdb.install-out.txt --library=/home/biocbuild/bbs-3.21-bioc/R/site-library --timings SRAdb_1.69.2.tar.gz StartedAt: 2025-02-10 03:04:55 -0500 (Mon, 10 Feb 2025) EndedAt: 2025-02-10 03:05:30 -0500 (Mon, 10 Feb 2025) EllapsedTime: 34.1 seconds RetCode: 0 Status: OK CheckDir: SRAdb.Rcheck Warnings: 0