Package: STdeconvolve Version: 1.11.1 Command: /home/biocbuild/R/R/bin/R CMD build --keep-empty-dirs --no-resave-data STdeconvolve StartedAt: 2025-01-28 02:46:10 -0000 (Tue, 28 Jan 2025) EndedAt: 2025-01-28 02:46:11 -0000 (Tue, 28 Jan 2025) EllapsedTime: 1.0 seconds RetCode: 1 Status: ERROR PackageFile: None PackageFileSize: NA