############################################################################## ############################################################################## ### ### Running command: ### ### /Library/Frameworks/R.framework/Resources/bin/R CMD build --keep-empty-dirs --no-resave-data STdeconvolve ### ############################################################################## ############################################################################## * checking for file ‘STdeconvolve/DESCRIPTION’ ... OK * preparing ‘STdeconvolve’: * checking DESCRIPTION meta-information ... OK * installing the package to build vignettes ----------------------------------- ERROR: dependency ‘liger’ is not available for package ‘STdeconvolve’ Perhaps try a variation of: install.packages('liger') * removing ‘/private/tmp/RtmpbzJ0Ld/Rinst1f721123455f/STdeconvolve’ ----------------------------------- ERROR: package installation failed