Package: STdeconvolve Version: 1.11.1 Command: /home/biocbuild/bbs-3.21-bioc/R/bin/R CMD build --keep-empty-dirs --no-resave-data STdeconvolve StartedAt: 2025-02-12 19:25:41 -0500 (Wed, 12 Feb 2025) EndedAt: 2025-02-12 19:25:42 -0500 (Wed, 12 Feb 2025) EllapsedTime: 1.0 seconds RetCode: 1 Status: ERROR PackageFile: None PackageFileSize: NA