Package: STdeconvolve Version: 1.11.1 Command: chmod a+r STdeconvolve -R && E:\biocbuild\bbs-3.21-bioc\R\bin\R.exe CMD build --keep-empty-dirs --no-resave-data STdeconvolve StartedAt: 2025-02-09 21:57:27 -0500 (Sun, 09 Feb 2025) EndedAt: 2025-02-09 21:57:30 -0500 (Sun, 09 Feb 2025) EllapsedTime: 3.0 seconds RetCode: 1 Status: ERROR PackageFile: None PackageFileSize: NA