Package: SUITOR Version: 1.9.0 Command: /Library/Frameworks/R.framework/Resources/bin/R CMD check --install=check:SUITOR.install-out.txt --library=/Library/Frameworks/R.framework/Resources/library --no-vignettes --timings SUITOR_1.9.0.tar.gz StartedAt: 2025-02-09 21:39:03 -0500 (Sun, 09 Feb 2025) EndedAt: 2025-02-09 21:39:24 -0500 (Sun, 09 Feb 2025) EllapsedTime: 21.3 seconds RetCode: 0 Status: WARNINGS CheckDir: SUITOR.Rcheck Warnings: 1