Package: SUITOR Version: 1.9.0 Command: /home/biocbuild/R/R/bin/R CMD build --keep-empty-dirs --no-resave-data SUITOR StartedAt: 2025-01-28 02:47:38 -0000 (Tue, 28 Jan 2025) EndedAt: 2025-01-28 02:49:24 -0000 (Tue, 28 Jan 2025) EllapsedTime: 106.0 seconds RetCode: 0 Status: OK PackageFile: SUITOR_1.9.0.tar.gz PackageFileSize: 246.2 KiB