Package: SUITOR Version: 1.9.0 Command: /home/biocbuild/R/R/bin/R CMD check --install=check:SUITOR.install-out.txt --library=/home/biocbuild/R/R/site-library --no-vignettes --timings SUITOR_1.9.0.tar.gz StartedAt: 2025-01-28 15:52:36 -0000 (Tue, 28 Jan 2025) EndedAt: 2025-01-28 15:53:36 -0000 (Tue, 28 Jan 2025) EllapsedTime: 59.1 seconds RetCode: 0 Status: OK CheckDir: SUITOR.Rcheck Warnings: 0