Package: SUITOR Version: 1.9.0 Command: /home/biocbuild/bbs-3.21-bioc/R/bin/R CMD build --keep-empty-dirs --no-resave-data SUITOR StartedAt: 2025-02-12 19:26:54 -0500 (Wed, 12 Feb 2025) EndedAt: 2025-02-12 19:27:52 -0500 (Wed, 12 Feb 2025) EllapsedTime: 58.1 seconds RetCode: 0 Status: OK PackageFile: SUITOR_1.9.0.tar.gz PackageFileSize: 252.6 KiB