Package: SUITOR Version: 1.9.0 Command: /home/biocbuild/bbs-3.21-bioc/R/bin/R CMD check --install=check:SUITOR.install-out.txt --library=/home/biocbuild/bbs-3.21-bioc/R/site-library --timings SUITOR_1.9.0.tar.gz StartedAt: 2025-02-10 03:10:07 -0500 (Mon, 10 Feb 2025) EndedAt: 2025-02-10 03:11:41 -0500 (Mon, 10 Feb 2025) EllapsedTime: 94.1 seconds RetCode: 0 Status: OK CheckDir: SUITOR.Rcheck Warnings: 0