Package: SUITOR Version: 1.9.0 Command: E:\biocbuild\bbs-3.21-bioc\R\bin\R.exe CMD check --no-multiarch --install=check:SUITOR.install-out.txt --library=E:\biocbuild\bbs-3.21-bioc\R\library --no-vignettes --timings SUITOR_1.9.0.tar.gz StartedAt: 2025-02-10 05:58:21 -0500 (Mon, 10 Feb 2025) EndedAt: 2025-02-10 05:59:20 -0500 (Mon, 10 Feb 2025) EllapsedTime: 59.6 seconds RetCode: 0 Status: OK CheckDir: SUITOR.Rcheck Warnings: 0