Package: SUITOR Version: 1.9.0 Command: E:\biocbuild\bbs-3.21-bioc\R\bin\R.exe CMD INSTALL SUITOR StartedAt: 2025-02-12 15:38:12 -0500 (Wed, 12 Feb 2025) EndedAt: 2025-02-12 15:38:25 -0500 (Wed, 12 Feb 2025) EllapsedTime: 13.1 seconds RetCode: 0 Status: OK