Package: SVMDO Version: 1.7.0 Command: /Library/Frameworks/R.framework/Resources/bin/R CMD build --keep-empty-dirs --no-resave-data SVMDO StartedAt: 2025-02-04 17:46:04 -0500 (Tue, 04 Feb 2025) EndedAt: 2025-02-04 17:46:21 -0500 (Tue, 04 Feb 2025) EllapsedTime: 16.2 seconds RetCode: 0 Status: OK PackageFile: SVMDO_1.7.0.tar.gz PackageFileSize: 2.379 MiB