Package: SVMDO Version: 1.7.0 Command: /Library/Frameworks/R.framework/Resources/bin/R CMD check --install=check:SVMDO.install-out.txt --library=/Library/Frameworks/R.framework/Resources/library --no-vignettes --timings SVMDO_1.7.0.tar.gz StartedAt: 2025-02-04 21:41:57 -0500 (Tue, 04 Feb 2025) EndedAt: 2025-02-04 21:44:21 -0500 (Tue, 04 Feb 2025) EllapsedTime: 143.8 seconds RetCode: 0 Status: OK CheckDir: SVMDO.Rcheck Warnings: 0