Package: SVMDO Version: 1.7.0 Command: /home/biocbuild/R/R/bin/R CMD INSTALL SVMDO StartedAt: 2025-01-29 20:25:14 -0000 (Wed, 29 Jan 2025) EndedAt: 2025-01-29 20:26:01 -0000 (Wed, 29 Jan 2025) EllapsedTime: 47.9 seconds RetCode: 0 Status: OK