Package: SVMDO Version: 1.7.0 Command: /Library/Frameworks/R.framework/Resources/bin/R CMD build --keep-empty-dirs --no-resave-data SVMDO StartedAt: 2025-02-05 18:31:37 -0500 (Wed, 05 Feb 2025) EndedAt: 2025-02-05 18:32:19 -0500 (Wed, 05 Feb 2025) EllapsedTime: 42.3 seconds RetCode: 0 Status: OK PackageFile: SVMDO_1.7.0.tar.gz PackageFileSize: 2.379 MiB