Package: SVMDO Version: 1.7.0 Command: /Library/Frameworks/R.framework/Resources/bin/R CMD check --install=check:SVMDO.install-out.txt --library=/Library/Frameworks/R.framework/Resources/library --no-vignettes --timings SVMDO_1.7.0.tar.gz StartedAt: 2025-02-05 23:39:15 -0500 (Wed, 05 Feb 2025) EndedAt: 2025-02-05 23:45:59 -0500 (Wed, 05 Feb 2025) EllapsedTime: 403.5 seconds RetCode: 0 Status: OK CheckDir: SVMDO.Rcheck Warnings: 0