Package: SVMDO Version: 1.7.0 Command: /Library/Frameworks/R.framework/Resources/bin/R CMD INSTALL SVMDO StartedAt: 2025-02-05 15:36:20 -0500 (Wed, 05 Feb 2025) EndedAt: 2025-02-05 15:37:07 -0500 (Wed, 05 Feb 2025) EllapsedTime: 47.0 seconds RetCode: 0 Status: OK