Package: SVMDO Version: 1.7.0 Command: /home/biocbuild/bbs-3.21-bioc/R/bin/R CMD build --keep-empty-dirs --no-resave-data SVMDO StartedAt: 2025-02-05 19:31:50 -0500 (Wed, 05 Feb 2025) EndedAt: 2025-02-05 19:32:28 -0500 (Wed, 05 Feb 2025) EllapsedTime: 37.0 seconds RetCode: 0 Status: OK PackageFile: SVMDO_1.7.0.tar.gz PackageFileSize: 2.379 MiB