Package: SVMDO Version: 1.7.0 Command: /home/biocbuild/bbs-3.21-bioc/R/bin/R CMD check --install=check:SVMDO.install-out.txt --library=/home/biocbuild/bbs-3.21-bioc/R/site-library --timings SVMDO_1.7.0.tar.gz StartedAt: 2025-02-06 03:14:26 -0500 (Thu, 06 Feb 2025) EndedAt: 2025-02-06 03:21:55 -0500 (Thu, 06 Feb 2025) EllapsedTime: 448.6 seconds RetCode: 0 Status: OK CheckDir: SVMDO.Rcheck Warnings: 0