Package: SVMDO Version: 1.7.0 Command: /home/biocbuild/bbs-3.21-bioc/R/bin/R CMD INSTALL SVMDO StartedAt: 2025-02-05 15:42:32 -0500 (Wed, 05 Feb 2025) EndedAt: 2025-02-05 15:43:06 -0500 (Wed, 05 Feb 2025) EllapsedTime: 33.7 seconds RetCode: 0 Status: OK