Package: SVMDO Version: 1.7.0 Command: rm -rf SVMDO.buildbin-libdir && mkdir SVMDO.buildbin-libdir && E:\biocbuild\bbs-3.21-bioc\R\bin\R.exe CMD INSTALL --build --library=SVMDO.buildbin-libdir SVMDO_1.7.0.tar.gz StartedAt: 2025-02-06 09:09:57 -0500 (Thu, 06 Feb 2025) EndedAt: 2025-02-06 09:10:53 -0500 (Thu, 06 Feb 2025) EllapsedTime: 56.1 seconds RetCode: 0 Status: OK PackageFile: SVMDO_1.7.0.zip PackageFileSize: 2.367 MiB