Package: SVMDO Version: 1.7.0 Command: chmod a+r SVMDO -R && E:\biocbuild\bbs-3.21-bioc\R\bin\R.exe CMD build --keep-empty-dirs --no-resave-data SVMDO StartedAt: 2025-02-05 22:06:33 -0500 (Wed, 05 Feb 2025) EndedAt: 2025-02-05 22:07:42 -0500 (Wed, 05 Feb 2025) EllapsedTime: 69.6 seconds RetCode: 0 Status: OK PackageFile: SVMDO_1.7.0.tar.gz PackageFileSize: 2.379 MiB