Package: SWATH2stats Version: 1.37.0 Command: rm -rf SWATH2stats.buildbin-libdir && mkdir SWATH2stats.buildbin-libdir && /Users/biocbuild/BBS/utils/build-universal.sh SWATH2stats_1.37.0.tar.gz /Library/Frameworks/R.framework/Resources/bin/R SWATH2stats.buildbin-libdir StartedAt: 2025-02-09 22:32:56 -0500 (Sun, 09 Feb 2025) EndedAt: 2025-02-09 22:33:03 -0500 (Sun, 09 Feb 2025) EllapsedTime: 7.2 seconds RetCode: 0 Status: OK PackageFile: SWATH2stats_1.37.0.tgz PackageFileSize: 3.168 MiB