Package: SWATH2stats Version: 1.37.0 Command: /Library/Frameworks/R.framework/Resources/bin/R CMD check --install=check:SWATH2stats.install-out.txt --library=/Library/Frameworks/R.framework/Resources/library --no-vignettes --timings SWATH2stats_1.37.0.tar.gz StartedAt: 2025-02-03 22:15:58 -0500 (Mon, 03 Feb 2025) EndedAt: 2025-02-03 22:16:57 -0500 (Mon, 03 Feb 2025) EllapsedTime: 58.7 seconds RetCode: 1 Status: ERROR CheckDir: SWATH2stats.Rcheck Warnings: NA