Package: SWATH2stats Version: 1.37.0 Command: /Library/Frameworks/R.framework/Resources/bin/R CMD INSTALL SWATH2stats StartedAt: 2025-02-03 15:48:23 -0500 (Mon, 03 Feb 2025) EndedAt: 2025-02-03 15:48:30 -0500 (Mon, 03 Feb 2025) EllapsedTime: 6.6 seconds RetCode: 0 Status: OK