Package: SWATH2stats Version: 1.37.0 Command: /home/biocbuild/R/R/bin/R CMD build --keep-empty-dirs --no-resave-data SWATH2stats StartedAt: 2025-01-28 02:49:27 -0000 (Tue, 28 Jan 2025) EndedAt: 2025-01-28 02:50:26 -0000 (Tue, 28 Jan 2025) EllapsedTime: 59.0 seconds RetCode: 0 Status: OK PackageFile: SWATH2stats_1.37.0.tar.gz PackageFileSize: 3.015 MiB