Package: SWATH2stats Version: 1.37.0 Command: /home/biocbuild/R/R/bin/R CMD check --install=check:SWATH2stats.install-out.txt --library=/home/biocbuild/R/R/site-library --no-vignettes --timings SWATH2stats_1.37.0.tar.gz StartedAt: 2025-01-28 15:56:26 -0000 (Tue, 28 Jan 2025) EndedAt: 2025-01-28 15:59:43 -0000 (Tue, 28 Jan 2025) EllapsedTime: 197.4 seconds RetCode: 0 Status: WARNINGS CheckDir: SWATH2stats.Rcheck Warnings: 5