Package: SWATH2stats Version: 1.37.0 Command: rm -rf SWATH2stats.buildbin-libdir && mkdir SWATH2stats.buildbin-libdir && /Users/biocbuild/BBS/utils/build-universal.sh SWATH2stats_1.37.0.tar.gz /Library/Frameworks/R.framework/Resources/bin/R SWATH2stats.buildbin-libdir StartedAt: 2025-02-04 00:59:34 -0500 (Tue, 04 Feb 2025) EndedAt: 2025-02-04 00:59:59 -0500 (Tue, 04 Feb 2025) EllapsedTime: 25.4 seconds RetCode: 0 Status: OK PackageFile: SWATH2stats_1.37.0.tgz PackageFileSize: 3.163 MiB