Package: SWATH2stats Version: 1.37.0 Command: /Library/Frameworks/R.framework/Resources/bin/R CMD check --install=check:SWATH2stats.install-out.txt --library=/Library/Frameworks/R.framework/Resources/library --no-vignettes --timings SWATH2stats_1.37.0.tar.gz StartedAt: 2025-02-03 23:43:08 -0500 (Mon, 03 Feb 2025) EndedAt: 2025-02-03 23:45:43 -0500 (Mon, 03 Feb 2025) EllapsedTime: 155.1 seconds RetCode: 0 Status: OK CheckDir: SWATH2stats.Rcheck Warnings: 0