Package: SWATH2stats Version: 1.37.0 Command: /home/biocbuild/bbs-3.21-bioc/R/bin/R CMD build --keep-empty-dirs --no-resave-data SWATH2stats StartedAt: 2025-02-09 19:31:55 -0500 (Sun, 09 Feb 2025) EndedAt: 2025-02-09 19:32:39 -0500 (Sun, 09 Feb 2025) EllapsedTime: 44.1 seconds RetCode: 0 Status: OK PackageFile: SWATH2stats_1.37.0.tar.gz PackageFileSize: 3.032 MiB