Package: SWATH2stats Version: 1.37.0 Command: /home/biocbuild/bbs-3.21-bioc/R/bin/R CMD INSTALL SWATH2stats StartedAt: 2025-02-03 15:34:50 -0500 (Mon, 03 Feb 2025) EndedAt: 2025-02-03 15:35:06 -0500 (Mon, 03 Feb 2025) EllapsedTime: 16.5 seconds RetCode: 0 Status: OK