Package: SWATH2stats Version: 1.37.0 Command: chmod a+r SWATH2stats -R && E:\biocbuild\bbs-3.21-bioc\R\bin\R.exe CMD build --keep-empty-dirs --no-resave-data SWATH2stats StartedAt: 2025-02-03 22:12:28 -0500 (Mon, 03 Feb 2025) EndedAt: 2025-02-03 22:14:26 -0500 (Mon, 03 Feb 2025) EllapsedTime: 118.8 seconds RetCode: 0 Status: OK PackageFile: SWATH2stats_1.37.0.tar.gz PackageFileSize: 2.925 MiB