Package: SWATH2stats Version: 1.37.0 Command: E:\biocbuild\bbs-3.21-bioc\R\bin\R.exe CMD check --no-multiarch --install=check:SWATH2stats.install-out.txt --library=E:\biocbuild\bbs-3.21-bioc\R\library --no-vignettes --timings SWATH2stats_1.37.0.tar.gz StartedAt: 2025-02-10 06:01:51 -0500 (Mon, 10 Feb 2025) EndedAt: 2025-02-10 06:04:43 -0500 (Mon, 10 Feb 2025) EllapsedTime: 172.2 seconds RetCode: 0 Status: OK CheckDir: SWATH2stats.Rcheck Warnings: 0