Package: SamSPECTRAL Version: 1.61.0 Command: /Library/Frameworks/R.framework/Resources/bin/R CMD build --keep-empty-dirs --no-resave-data SamSPECTRAL StartedAt: 2025-02-09 17:28:57 -0500 (Sun, 09 Feb 2025) EndedAt: 2025-02-09 17:29:28 -0500 (Sun, 09 Feb 2025) EllapsedTime: 30.4 seconds RetCode: 0 Status: OK PackageFile: SamSPECTRAL_1.61.0.tar.gz PackageFileSize: 936.7 KiB